BEGIN:VCALENDAR
VERSION:2.0
PRODID:-//Deutsch-Britische Gesellschaft Nürnberg e.V. - ECPv5.16.4//NONSGML v1.0//EN
CALSCALE:GREGORIAN
METHOD:PUBLISH
X-WR-CALNAME:Deutsch-Britische Gesellschaft Nürnberg e.V.
X-ORIGINAL-URL:https://www.deutsch-britische-nuernberg.de
X-WR-CALDESC:Veranstaltungen für Deutsch-Britische Gesellschaft Nürnberg e.V.
BEGIN:VTIMEZONE
TZID:Europe/Berlin
BEGIN:DAYLIGHT
TZOFFSETFROM:+0100
TZOFFSETTO:+0200
TZNAME:CEST
DTSTART:20230326T010000
END:DAYLIGHT
BEGIN:STANDARD
TZOFFSETFROM:+0200
TZOFFSETTO:+0100
TZNAME:CET
DTSTART:20231029T010000
END:STANDARD
END:VTIMEZONE
BEGIN:VEVENT
DTSTART;TZID=Europe/Berlin:20230504T170000
DTEND;TZID=Europe/Berlin:20230504T190000
DTSTAMP:20260426T003635
CREATED:20230529T152638Z
LAST-MODIFIED:20230529T152638Z
UID:2161-1683219600-1683226800@www.deutsch-britische-nuernberg.de
SUMMARY:Professor Miles Taylor\, Inaugural Lecture: ’Intelligible government’? Rethinking the meaning of monarchy in the age of Charles III
DESCRIPTION:
URL:https://www.deutsch-britische-nuernberg.de/event/professor-miles-taylor-inaugural-lecture-intelligible-government-rethinking-the-meaning-of-monarchy-in-the-age-of-charles-iii/
LOCATION:Online – Zoom
CATEGORIES:Partner-Veranstaltung
END:VEVENT
END:VCALENDAR