BEGIN:VCALENDAR
VERSION:2.0
PRODID:-//Deutsch-Britische Gesellschaft Nürnberg e.V. - ECPv5.16.4//NONSGML v1.0//EN
CALSCALE:GREGORIAN
METHOD:PUBLISH
X-WR-CALNAME:Deutsch-Britische Gesellschaft Nürnberg e.V.
X-ORIGINAL-URL:https://www.deutsch-britische-nuernberg.de
X-WR-CALDESC:Veranstaltungen für Deutsch-Britische Gesellschaft Nürnberg e.V.
BEGIN:VTIMEZONE
TZID:Europe/Berlin
BEGIN:DAYLIGHT
TZOFFSETFROM:+0100
TZOFFSETTO:+0200
TZNAME:CEST
DTSTART:20220327T010000
END:DAYLIGHT
BEGIN:STANDARD
TZOFFSETFROM:+0200
TZOFFSETTO:+0100
TZNAME:CET
DTSTART:20221030T010000
END:STANDARD
END:VTIMEZONE
BEGIN:VEVENT
DTSTART;TZID=Europe/Berlin:20220216T123000
DTEND;TZID=Europe/Berlin:20220216T140000
DTSTAMP:20260423T014311
CREATED:20220214T190457Z
LAST-MODIFIED:20220214T192217Z
UID:1778-1645014600-1645020000@www.deutsch-britische-nuernberg.de
SUMMARY:Monthly lunch
DESCRIPTION:
URL:https://www.deutsch-britische-nuernberg.de/event/monthly-lunch/
LOCATION:Restaurant im Literaturhaus\, Luitpoldstrasse 6\, Nürnberg\, 90402
END:VEVENT
END:VCALENDAR