BEGIN:VCALENDAR
VERSION:2.0
PRODID:-//Deutsch-Britische Gesellschaft Nürnberg e.V. - ECPv5.16.4//NONSGML v1.0//EN
CALSCALE:GREGORIAN
METHOD:PUBLISH
X-WR-CALNAME:Deutsch-Britische Gesellschaft Nürnberg e.V.
X-ORIGINAL-URL:https://www.deutsch-britische-nuernberg.de
X-WR-CALDESC:Veranstaltungen für Deutsch-Britische Gesellschaft Nürnberg e.V.
BEGIN:VTIMEZONE
TZID:Europe/Berlin
BEGIN:DAYLIGHT
TZOFFSETFROM:+0100
TZOFFSETTO:+0200
TZNAME:CEST
DTSTART:20230326T010000
END:DAYLIGHT
BEGIN:STANDARD
TZOFFSETFROM:+0200
TZOFFSETTO:+0100
TZNAME:CET
DTSTART:20231029T010000
END:STANDARD
END:VTIMEZONE
BEGIN:VEVENT
DTSTART;TZID=Europe/Berlin:20230414T190000
DTEND;TZID=Europe/Berlin:20230414T220000
DTSTAMP:20260425T195130
CREATED:20230412T092802Z
LAST-MODIFIED:20230412T092802Z
UID:1979-1681498800-1681509600@www.deutsch-britische-nuernberg.de
SUMMARY:Monatliches Treffen am Freitag "Friday Evening Dinner"
DESCRIPTION:Ein wichtiges Thema der Gespräche an diesem Abend in angenehmer Runde wird die weitere Gestaltung des Vereinslebens unserer Gesellschaft sein. \nUm die Zahl der zu reservierenden Plätze abschätzen zu können\, bitten wir um vorherige Anmeldung unter president@deutsch-britische-nuernberg.de oder unter Telefon 0172 85 34 526. \nVielen Dank! \nWir freuen uns auf Ihr Kommen.
URL:https://www.deutsch-britische-nuernberg.de/event/monatliches-treffen-am-freitag-friday-evening-dinner/
LOCATION:Restaurant im Literaturhaus\, Luitpoldstrasse 6\, Nürnberg\, 90402
CATEGORIES:Monatliches Treffen am Freitag "Friday Evening Dinner" - 2. Freitag im Monat
ORGANIZER;CN="Bill%20Blundell":MAILTO:president at deutsch-britische-nuernberg.de
END:VEVENT
END:VCALENDAR