BEGIN:VCALENDAR
VERSION:2.0
PRODID:-//Deutsch-Britische Gesellschaft Nürnberg e.V. - ECPv5.16.4//NONSGML v1.0//EN
CALSCALE:GREGORIAN
METHOD:PUBLISH
X-WR-CALNAME:Deutsch-Britische Gesellschaft Nürnberg e.V.
X-ORIGINAL-URL:https://www.deutsch-britische-nuernberg.de
X-WR-CALDESC:Veranstaltungen für Deutsch-Britische Gesellschaft Nürnberg e.V.
BEGIN:VTIMEZONE
TZID:Europe/Berlin
BEGIN:DAYLIGHT
TZOFFSETFROM:+0100
TZOFFSETTO:+0200
TZNAME:CEST
DTSTART:20230326T010000
END:DAYLIGHT
BEGIN:STANDARD
TZOFFSETFROM:+0200
TZOFFSETTO:+0100
TZNAME:CET
DTSTART:20231029T010000
END:STANDARD
END:VTIMEZONE
BEGIN:VEVENT
DTSTART;TZID=Europe/Berlin:20230512T190000
DTEND;TZID=Europe/Berlin:20230512T190000
DTSTAMP:20260426T033630
CREATED:20230508T213259Z
LAST-MODIFIED:20230508T214755Z
UID:2130-1683918000-1683918000@www.deutsch-britische-nuernberg.de
SUMMARY:Monatliches Treffen „Friday Evening Dinner“ - Mai-Veranstaltung durch Coronation Party ersetzt
DESCRIPTION:
URL:https://www.deutsch-britische-nuernberg.de/event/monatliches-treffen-am-freitag-friday-evening-dinner-2/
CATEGORIES:Monatliches Treffen am Freitag "Friday Evening Dinner" - 2. Freitag im Monat
ORGANIZER;CN="Bill%20Blundell":MAILTO:president at deutsch-britische-nuernberg.de
END:VEVENT
END:VCALENDAR