BEGIN:VCALENDAR
VERSION:2.0
PRODID:-//Deutsch-Britische Gesellschaft Nürnberg e.V. - ECPv5.16.4//NONSGML v1.0//EN
CALSCALE:GREGORIAN
METHOD:PUBLISH
X-WR-CALNAME:Deutsch-Britische Gesellschaft Nürnberg e.V.
X-ORIGINAL-URL:https://www.deutsch-britische-nuernberg.de
X-WR-CALDESC:Veranstaltungen für Deutsch-Britische Gesellschaft Nürnberg e.V.
BEGIN:VTIMEZONE
TZID:Europe/Berlin
BEGIN:DAYLIGHT
TZOFFSETFROM:+0100
TZOFFSETTO:+0200
TZNAME:CEST
DTSTART:20210328T010000
END:DAYLIGHT
BEGIN:STANDARD
TZOFFSETFROM:+0200
TZOFFSETTO:+0100
TZNAME:CET
DTSTART:20211031T010000
END:STANDARD
END:VTIMEZONE
BEGIN:VEVENT
DTSTART;TZID=Europe/Berlin:20211024T190000
DTEND;TZID=Europe/Berlin:20211024T210000
DTSTAMP:20260423T001102
CREATED:20211007T203835Z
LAST-MODIFIED:20211007T214004Z
UID:1701-1635102000-1635109200@www.deutsch-britische-nuernberg.de
SUMMARY:Kammermusik Uttenreuth - D’Arts Streichtrio\, Köln
DESCRIPTION:D’Arts Streichtrio\nKöln\nHayley Bulloch\, Violine\nLaurent Tardat\, Viola\nDmitrij Gornowskij\, Violoncello\nMit Werken von Schubert\, Beethoven und Rolla\n\nSchwarzer Adler\, Uttenreuth \nKarten zu 17\,00 Euro (erm.12\,00 Euro) in der Verwaltungsgemeinschaft Uttenreuth\,\nBuchhandlung Witthuhn Uttenreuth\nund an der Abendkasse. \nEintrittskarten für das am 22.03.2020 ausgefallene Konzert bleiben gültig. \nEs gilt die 3G-Regel.
URL:https://www.deutsch-britische-nuernberg.de/event/kammermusik-uttenreuth-darts-streichtrio-koeln/
LOCATION:Schwarzer Adler\, Marloffsteiner Str. 17\,\, Uttenreuth\, 91080\, Deutschland
CATEGORIES:Besondere Veranstaltung
END:VEVENT
END:VCALENDAR