BEGIN:VCALENDAR
VERSION:2.0
PRODID:-//Deutsch-Britische Gesellschaft Nürnberg e.V. - ECPv5.16.4//NONSGML v1.0//EN
CALSCALE:GREGORIAN
METHOD:PUBLISH
X-WR-CALNAME:Deutsch-Britische Gesellschaft Nürnberg e.V.
X-ORIGINAL-URL:https://www.deutsch-britische-nuernberg.de
X-WR-CALDESC:Veranstaltungen für Deutsch-Britische Gesellschaft Nürnberg e.V.
BEGIN:VTIMEZONE
TZID:Europe/Berlin
BEGIN:DAYLIGHT
TZOFFSETFROM:+0100
TZOFFSETTO:+0200
TZNAME:CEST
DTSTART:20220327T010000
END:DAYLIGHT
BEGIN:STANDARD
TZOFFSETFROM:+0200
TZOFFSETTO:+0100
TZNAME:CET
DTSTART:20221030T010000
END:STANDARD
END:VTIMEZONE
BEGIN:VEVENT
DTSTART;TZID=Europe/Berlin:20220112T123000
DTEND;TZID=Europe/Berlin:20220112T140000
DTSTAMP:20260423T001653
CREATED:20220112T102455Z
LAST-MODIFIED:20220112T230601Z
UID:1772-1641990600-1641996000@www.deutsch-britische-nuernberg.de
SUMMARY:Januar Mittagstreff
DESCRIPTION:
URL:https://www.deutsch-britische-nuernberg.de/event/januar-mittagstreff/
LOCATION:Restaurant im Literaturhaus\, Luitpoldstrasse 6\, Nürnberg\, 90402
CATEGORIES:Monatlicher Mittagstreff
ORGANIZER;CN="Bill%20Blundell":MAILTO:president at deutsch-britische-nuernberg.de
END:VEVENT
END:VCALENDAR