BEGIN:VCALENDAR
VERSION:2.0
PRODID:-//Deutsch-Britische Gesellschaft Nürnberg e.V. - ECPv5.16.4//NONSGML v1.0//EN
CALSCALE:GREGORIAN
METHOD:PUBLISH
X-WR-CALNAME:Deutsch-Britische Gesellschaft Nürnberg e.V.
X-ORIGINAL-URL:https://www.deutsch-britische-nuernberg.de
X-WR-CALDESC:Veranstaltungen für Deutsch-Britische Gesellschaft Nürnberg e.V.
BEGIN:VTIMEZONE
TZID:Europe/Berlin
BEGIN:DAYLIGHT
TZOFFSETFROM:+0100
TZOFFSETTO:+0200
TZNAME:CEST
DTSTART:20240331T010000
END:DAYLIGHT
BEGIN:STANDARD
TZOFFSETFROM:+0200
TZOFFSETTO:+0100
TZNAME:CET
DTSTART:20241027T010000
END:STANDARD
END:VTIMEZONE
BEGIN:VEVENT
DTSTART;TZID=Europe/Berlin:20241011T190000
DTEND;TZID=Europe/Berlin:20241011T220000
DTSTAMP:20260423T235705
CREATED:20240927T172856Z
LAST-MODIFIED:20240927T172856Z
UID:2282-1728673200-1728684000@www.deutsch-britische-nuernberg.de
SUMMARY:Informal October Dinner
DESCRIPTION:
URL:https://www.deutsch-britische-nuernberg.de/event/informal-october-dinner/
LOCATION:Gutmann am Dutzendteich\, Bayernstraße 150\, 90478 Nürnberg
CATEGORIES:Monatliches Treffen am Freitag "Friday Evening Dinner" - 2. Freitag im Monat
ORGANIZER;CN="Bill%20Blundell":MAILTO:president at deutsch-britische-nuernberg.de
END:VEVENT
END:VCALENDAR