BEGIN:VCALENDAR
VERSION:2.0
PRODID:-//Deutsch-Britische Gesellschaft Nürnberg e.V. - ECPv5.16.4//NONSGML v1.0//EN
CALSCALE:GREGORIAN
METHOD:PUBLISH
X-WR-CALNAME:Deutsch-Britische Gesellschaft Nürnberg e.V.
X-ORIGINAL-URL:https://www.deutsch-britische-nuernberg.de
X-WR-CALDESC:Veranstaltungen für Deutsch-Britische Gesellschaft Nürnberg e.V.
BEGIN:VTIMEZONE
TZID:Europe/Berlin
BEGIN:DAYLIGHT
TZOFFSETFROM:+0100
TZOFFSETTO:+0200
TZNAME:CEST
DTSTART:20220327T010000
END:DAYLIGHT
BEGIN:STANDARD
TZOFFSETFROM:+0200
TZOFFSETTO:+0100
TZNAME:CET
DTSTART:20221030T010000
END:STANDARD
END:VTIMEZONE
BEGIN:VEVENT
DTSTART;TZID=Europe/Berlin:20220629T193000
DTEND;TZID=Europe/Berlin:20220629T210000
DTSTAMP:20260425T134621
CREATED:20220627T065848Z
LAST-MODIFIED:20220627T133036Z
UID:1796-1656531000-1656536400@www.deutsch-britische-nuernberg.de
SUMMARY:Großbritannien\, Elizabeth II. & die Zukunft des Vereinigten Königreiches - Ein Gespräch mit Thomas Kielinger
DESCRIPTION:220629-Kielinger-Queen GB-Ffm-Anmeldung \n220629-Kielinger-Queen GB-Ffm-Einladung
URL:https://www.deutsch-britische-nuernberg.de/event/grossbritannien-elizabeth-ii-die-zukunft-des-vereinigten-koenigreiches-ein-gespraech-mit-thomas-kielinger/
LOCATION:Online
END:VEVENT
END:VCALENDAR