BEGIN:VCALENDAR
VERSION:2.0
PRODID:-//Deutsch-Britische Gesellschaft Nürnberg e.V. - ECPv5.16.4//NONSGML v1.0//EN
CALSCALE:GREGORIAN
METHOD:PUBLISH
X-WR-CALNAME:Deutsch-Britische Gesellschaft Nürnberg e.V.
X-ORIGINAL-URL:https://www.deutsch-britische-nuernberg.de
X-WR-CALDESC:Veranstaltungen für Deutsch-Britische Gesellschaft Nürnberg e.V.
BEGIN:VTIMEZONE
TZID:Europe/Berlin
BEGIN:DAYLIGHT
TZOFFSETFROM:+0100
TZOFFSETTO:+0200
TZNAME:CEST
DTSTART:20230326T010000
END:DAYLIGHT
BEGIN:STANDARD
TZOFFSETFROM:+0200
TZOFFSETTO:+0100
TZNAME:CET
DTSTART:20231029T010000
END:STANDARD
END:VTIMEZONE
BEGIN:VEVENT
DTSTART;TZID=Europe/Berlin:20230506T103000
DTEND;TZID=Europe/Berlin:20230506T140000
DTSTAMP:20260426T003635
CREATED:20230508T212806Z
LAST-MODIFIED:20230508T212806Z
UID:2124-1683369000-1683381600@www.deutsch-britische-nuernberg.de
SUMMARY:Coronation Feier am Loew's Hotel Merkur
DESCRIPTION:
URL:https://www.deutsch-britische-nuernberg.de/event/coronation-feier-am-loews-hotel-merkur/
LOCATION:Loews Hotel Merkur\, Pillenreuther Str. 1\, Nürnberg\, 90459\, Deutschland
ORGANIZER;CN="Bill%20Blundell":MAILTO:president at deutsch-britische-nuernberg.de
END:VEVENT
END:VCALENDAR